BEGIN:VCALENDAR
VERSION:2.0
PRODID:-//Norfolk Society for Cemetery Conservation - ECPv6.15.20//NONSGML v1.0//EN
CALSCALE:GREGORIAN
METHOD:PUBLISH
X-ORIGINAL-URL:https://nsccva.org
X-WR-CALDESC:Events for Norfolk Society for Cemetery Conservation
REFRESH-INTERVAL;VALUE=DURATION:PT1H
X-Robots-Tag:noindex
X-PUBLISHED-TTL:PT1H
BEGIN:VTIMEZONE
TZID:America/New_York
BEGIN:DAYLIGHT
TZOFFSETFROM:-0500
TZOFFSETTO:-0400
TZNAME:EDT
DTSTART:20220313T070000
END:DAYLIGHT
BEGIN:STANDARD
TZOFFSETFROM:-0400
TZOFFSETTO:-0500
TZNAME:EST
DTSTART:20221106T060000
END:STANDARD
BEGIN:DAYLIGHT
TZOFFSETFROM:-0500
TZOFFSETTO:-0400
TZNAME:EDT
DTSTART:20230312T070000
END:DAYLIGHT
BEGIN:STANDARD
TZOFFSETFROM:-0400
TZOFFSETTO:-0500
TZNAME:EST
DTSTART:20231105T060000
END:STANDARD
BEGIN:DAYLIGHT
TZOFFSETFROM:-0500
TZOFFSETTO:-0400
TZNAME:EDT
DTSTART:20240310T070000
END:DAYLIGHT
BEGIN:STANDARD
TZOFFSETFROM:-0400
TZOFFSETTO:-0500
TZNAME:EST
DTSTART:20241103T060000
END:STANDARD
BEGIN:DAYLIGHT
TZOFFSETFROM:-0500
TZOFFSETTO:-0400
TZNAME:EDT
DTSTART:20250309T070000
END:DAYLIGHT
BEGIN:STANDARD
TZOFFSETFROM:-0400
TZOFFSETTO:-0500
TZNAME:EST
DTSTART:20251102T060000
END:STANDARD
END:VTIMEZONE
BEGIN:VEVENT
DTSTART;TZID=America/New_York:20240413T090000
DTEND;TZID=America/New_York:20240413T120000
DTSTAMP:20260420T151110
CREATED:20240219T162032Z
LAST-MODIFIED:20240219T162032Z
UID:1543-1712998800-1713009600@nsccva.org
SUMMARY:Headstone Cleaning - Children's Area
DESCRIPTION:Cleaning stones at the Children’s Lot\, follow the signs from Gate 2. \nWear old clothing\, dress for the weather. \nWater & snacks provided.
URL:https://nsccva.org/event/headstone-cleaning-childrens-area/
LOCATION:Forest Lawn Cemetery\, 8100 Granby St\, Norfolk\, Virginia\, 23505
CATEGORIES:Volunteer Opportunity
ATTACH;FMTTYPE=image/jpeg:https://nsccva.org/wp-content/uploads/2023/04/Image-3.jpeg
ORGANIZER;CN="Norfolk Society of Cemetery Conservation":MAILTO:media@nsccva.org
END:VEVENT
BEGIN:VEVENT
DTSTART;TZID=America/New_York:20240316T100000
DTEND;TZID=America/New_York:20240316T120000
DTSTAMP:20260420T151110
CREATED:20240219T161730Z
LAST-MODIFIED:20240228T165956Z
UID:1541-1710583200-1710590400@nsccva.org
SUMMARY:Spring Cleanup at Elmwood and Cedar Grove (rescheduled from March 2)
DESCRIPTION:Rescheduled from March 2 due to inclement weather conditions. \nPicking up all holiday decorations and trash. \nMeet at the office\, please wear comfortable clothing and bring gloves. \nWater & snacks provided.
URL:https://nsccva.org/event/spring-cleanup-at-elmwood-and-cedar-grove/
LOCATION:Elmwood Cemetery\, 238 E Princess Anne Rd.\, Norfolk\, Virginia\, 23510
CATEGORIES:Volunteer Opportunity
ATTACH;FMTTYPE=image/jpeg:https://nsccva.org/wp-content/uploads/2023/02/vol-day.jpeg
ORGANIZER;CN="Norfolk Society of Cemetery Conservation":MAILTO:media@nsccva.org
END:VEVENT
BEGIN:VEVENT
DTSTART;TZID=America/New_York:20240120T100000
DTEND;TZID=America/New_York:20240120T120000
DTSTAMP:20260420T151110
CREATED:20240116T175357Z
LAST-MODIFIED:20240116T181110Z
UID:1532-1705744800-1705752000@nsccva.org
SUMMARY:Wreaths Across America - Wreath Retirement Day
DESCRIPTION:The final phase of the WWA project remains to be completed\, and that is to remove the wreaths. Saturday\, January 20\, 2024 at 10:00 am is designated as wreath retirement day at Forest Lawn Cemetery. All wreaths must be removed from the graves and placed next to the roads for pickup by the cemetery staff.\n\n\n\nVolunteers are again needed to accomplish the removal.  This takes much less time than the canvassing and flagging stages.  Volunteers will gather at the back of the cemetery\, close to the maintenance area\, and then move on to collect the wreaths.  They will be placed in piles adjacent to the streets in each cemetery section\, so the maintenance trucks can pick them up.\n\nIt is advisable to wear gloves since the greenery can be prickly. If you have access to a cart or a wagon\, they are very useful when collecting the wreaths.\n\nAgain\, we thank everyone who helped make WWA Day such a success in honoring veterans\, and look forward to seeing those of you who are able to assist with this final task.\n\n\n\nReminders:\n\nMeeting place – back of the cemetery close to the maintenance building\nBring gloves\nBring cart or wagon\, if available\nSnacks and water will be provided.
URL:https://nsccva.org/event/wreath-retirement-day/
LOCATION:Forest Lawn Cemetery\, 8100 Granby St\, Norfolk\, Virginia\, 23505
CATEGORIES:Special Event,Volunteer Opportunity
ATTACH;FMTTYPE=image/png:https://nsccva.org/wp-content/uploads/2023/12/Screen-Shot-2023-12-20-at-2.22.41-PM.png
ORGANIZER;CN="Norfolk Society of Cemetery Conservation":MAILTO:media@nsccva.org
END:VEVENT
BEGIN:VEVENT
DTSTART;TZID=America/New_York:20231216T090000
DTEND;TZID=America/New_York:20231216T120000
DTSTAMP:20260420T151110
CREATED:20231112T224329Z
LAST-MODIFIED:20231112T224420Z
UID:1480-1702717200-1702728000@nsccva.org
SUMMARY:Wreaths Across America Day
DESCRIPTION:Wreaths Across America Day \nVolunteers: Be prepared to arrive at 9 am to help set up for ceremony at 10 am. \nPlease contact Barbara Davis\, Co-Chair of WAA Volunteers\, Wreaths Across America Committee if you are interested in volunteering at bsadavis@aol.com.
URL:https://nsccva.org/event/wreaths-across-america-day-2/
LOCATION:Forest Lawn Cemetery\, 8100 Granby St\, Norfolk\, Virginia\, 23505
CATEGORIES:Special Event,Volunteer Opportunity
ATTACH;FMTTYPE=image/jpeg:https://nsccva.org/wp-content/uploads/2023/11/WAA-121623.jpeg
ORGANIZER;CN="Norfolk Society of Cemetery Conservation":MAILTO:media@nsccva.org
END:VEVENT
BEGIN:VEVENT
DTSTART;TZID=America/New_York:20231210T140000
DTEND;TZID=America/New_York:20231210T160000
DTSTAMP:20260420T151110
CREATED:20231112T215903Z
LAST-MODIFIED:20231112T215903Z
UID:1467-1702216800-1702224000@nsccva.org
SUMMARY:Cemetery Flagging Day - Wreaths Across America
DESCRIPTION:Volunteers are needed to place ‘marking flags’ on graves to identify where a wreath should be placed on December 16\, 2023\, National Wreaths Across America day at Forest Lawn Cemetery. \nPlease contact Barbara Davis\, Co-Chair of WAA Volunteers\, Wreaths Across America Committee if you are interested in volunteering at bsadavis@aol.com.
URL:https://nsccva.org/event/cemetery-flagging-day-wreaths-across-america/
LOCATION:Forest Lawn Cemetery\, 8100 Granby St\, Norfolk\, Virginia\, 23505
CATEGORIES:Special Event,Volunteer Opportunity
ATTACH;FMTTYPE=image/png:https://nsccva.org/wp-content/uploads/2023/11/wreaths-across-america.png
ORGANIZER;CN="Norfolk Society of Cemetery Conservation":MAILTO:media@nsccva.org
END:VEVENT
BEGIN:VEVENT
DTSTART;TZID=America/New_York:20231112T090000
DTEND;TZID=America/New_York:20231112T120000
DTSTAMP:20260420T151110
CREATED:20231112T220251Z
LAST-MODIFIED:20231112T220251Z
UID:1470-1699779600-1699790400@nsccva.org
SUMMARY:Wreaths Across America Day
DESCRIPTION:National Wreaths Across America commemoration at Forest Lawn Cemetery. Wreaths will be placed on graves of veterans. \nThe ceremony starts at 10 am. Volunteers need to report by 9 am. \nPlease contact Barbara Davis\, Co-Chair of WAA Volunteers\, Wreaths Across America Committee if you are interested in volunteering at bsadavis@aol.com.
URL:https://nsccva.org/event/wreaths-across-america-day/
LOCATION:Forest Lawn Cemetery\, 8100 Granby St\, Norfolk\, Virginia\, 23505
CATEGORIES:Special Event,Volunteer Opportunity
ATTACH;FMTTYPE=image/jpeg:https://nsccva.org/wp-content/uploads/2023/11/WAA-121623.jpeg
ORGANIZER;CN="Norfolk Society of Cemetery Conservation":MAILTO:media@nsccva.org
END:VEVENT
BEGIN:VEVENT
DTSTART;TZID=America/New_York:20231028T090000
DTEND;TZID=America/New_York:20231028T120000
DTSTAMP:20260420T151110
CREATED:20231017T212430Z
LAST-MODIFIED:20231017T212430Z
UID:1453-1698483600-1698494400@nsccva.org
SUMMARY:Headstone Cleaning Workday
DESCRIPTION:Join us for a morning of headstone cleaning in Forest Lawn Cemetery. Be sure to wear comfortable shoes and clothing that can get dirty. Snacks and water provided.
URL:https://nsccva.org/event/headstone-cleaning-workday/
LOCATION:Forest Lawn Cemetery\, 8100 Granby St\, Norfolk\, Virginia\, 23505
CATEGORIES:Volunteer Opportunity
ATTACH;FMTTYPE=image/jpeg:https://nsccva.org/wp-content/uploads/2023/02/vol-2.jpeg
ORGANIZER;CN="Norfolk Society of Cemetery Conservation":MAILTO:media@nsccva.org
END:VEVENT
BEGIN:VEVENT
DTSTART;TZID=America/New_York:20230812T100000
DTEND;TZID=America/New_York:20230812T140000
DTSTAMP:20260420T151110
CREATED:20230724T152931Z
LAST-MODIFIED:20230724T152931Z
UID:1424-1691834400-1691848800@nsccva.org
SUMMARY:Volunteer Workday with the Marine Corps League Detachment 332
DESCRIPTION:Join members of the Marine Corps League Detachment 332 for a volunteer workday at Elmwood Cemetery. \n\nWear comfortable old clothing\nSnacks and water provided.
URL:https://nsccva.org/event/volunteer-workday-with-the-marine-corps-league-detachment-332/
LOCATION:Elmwood Cemetery\, 238 E Princess Anne Rd.\, Norfolk\, Virginia\, 23510
CATEGORIES:Volunteer Opportunity
ATTACH;FMTTYPE=image/jpeg:https://nsccva.org/wp-content/uploads/2023/07/IMG_8870.jpg
ORGANIZER;CN="Norfolk Society of Cemetery Conservation":MAILTO:media@nsccva.org
END:VEVENT
BEGIN:VEVENT
DTSTART;TZID=America/New_York:20230513T090000
DTEND;TZID=America/New_York:20230513T090000
DTSTAMP:20260420T151110
CREATED:20230411T232921Z
LAST-MODIFIED:20230427T201719Z
UID:1388-1683968400-1683968400@nsccva.org
SUMMARY:Volunteer Workday
DESCRIPTION:Join us at Calvary Cemetery as we clean Veteran’s headstones in preparation for Memorial Day activities. \n\nBe sure to wear old clothing.\nSnacks and water provided.\n\nClick on title for additional information.
URL:https://nsccva.org/event/volunteer-workday-2/
LOCATION:Calvary Cemetery\, 1600 St Julian Ave\, Norfolk\, VA\, 23504\, United States
CATEGORIES:Volunteer Opportunity
ATTACH;FMTTYPE=image/jpeg:https://nsccva.org/wp-content/uploads/2023/02/vol-day.jpeg
ORGANIZER;CN="Norfolk Society of Cemetery Conservation":MAILTO:media@nsccva.org
END:VEVENT
BEGIN:VEVENT
DTSTART;TZID=America/New_York:20230429T100000
DTEND;TZID=America/New_York:20230429T140000
DTSTAMP:20260420T151110
CREATED:20230226T210304Z
LAST-MODIFIED:20230427T201633Z
UID:1264-1682762400-1682776800@nsccva.org
SUMMARY:Volunteer Workday - Veteran Stone Cleaning
DESCRIPTION:Veteran stone cleaning. Please follow the signs to the location. \nBe sure to wear old clothing. Snacks & water provided. \nWatch for any weather updates on Facebook and website in the event of any cancelations. Click title for additional information.
URL:https://nsccva.org/event/volunteer-workday-7/
LOCATION:Forest Lawn Cemetery\, 8100 Granby St\, Norfolk\, Virginia\, 23505
CATEGORIES:Volunteer Opportunity
ATTACH;FMTTYPE=image/jpeg:https://nsccva.org/wp-content/uploads/2023/01/59294996_10157278497868221_6307030908624961536_n-1-1.jpg
END:VEVENT
BEGIN:VEVENT
DTSTART;TZID=America/New_York:20230422T090000
DTEND;TZID=America/New_York:20230422T123000
DTSTAMP:20260420T151110
CREATED:20230226T210133Z
LAST-MODIFIED:20230226T210133Z
UID:1262-1682154000-1682166600@nsccva.org
SUMMARY:Volunteer Workday
DESCRIPTION:LeKies mausoleum cleaning. Wear old clothing\, some ladder work required. Snacks & water provided.
URL:https://nsccva.org/event/volunteer-workday-6/
LOCATION:Elmwood Cemetery\, 238 E Princess Anne Rd.\, Norfolk\, Virginia\, 23510
CATEGORIES:Volunteer Opportunity
ATTACH;FMTTYPE=image/jpeg:https://nsccva.org/wp-content/uploads/2023/01/elmwood_best-1.jpg
ORGANIZER;CN="Norfolk Society of Cemetery Conservation":MAILTO:media@nsccva.org
END:VEVENT
BEGIN:VEVENT
DTSTART;TZID=America/New_York:20230415T090000
DTEND;TZID=America/New_York:20230415T123000
DTSTAMP:20260420T151110
CREATED:20230226T205930Z
LAST-MODIFIED:20230304T194942Z
UID:1260-1681549200-1681561800@nsccva.org
SUMMARY:Volunteer Workday
DESCRIPTION:Angel cleaning\, wear old clothing. Snacks & water provided.
URL:https://nsccva.org/event/volunteer-workday-5/
LOCATION:Elmwood Cemetery\, 238 E Princess Anne Rd.\, Norfolk\, Virginia\, 23510
CATEGORIES:Volunteer Opportunity
ATTACH;FMTTYPE=image/jpeg:https://nsccva.org/wp-content/uploads/2023/02/vol-2.jpeg
ORGANIZER;CN="Norfolk Society of Cemetery Conservation":MAILTO:media@nsccva.org
END:VEVENT
BEGIN:VEVENT
DTSTART;TZID=America/New_York:20230401T090000
DTEND;TZID=America/New_York:20230401T123000
DTSTAMP:20260420T151110
CREATED:20230226T205745Z
LAST-MODIFIED:20230330T220940Z
UID:1258-1680339600-1680352200@nsccva.org
SUMMARY:Volunteer Workday - CANCELLED
DESCRIPTION:CANCELLED DUE TO INCLEMENT WEATHER\nStone cleaning the Veteran headstones. Snacks & water provided.
URL:https://nsccva.org/event/volunteer-workday-4/
LOCATION:Calvary Cemetery\, 1600 St Julian Ave\, Norfolk\, VA\, 23504\, United States
CATEGORIES:Volunteer Opportunity
ATTACH;FMTTYPE=image/jpeg:https://nsccva.org/wp-content/uploads/2023/01/59294996_10157278497868221_6307030908624961536_n-1-1.jpg
ORGANIZER;CN="Norfolk Society of Cemetery Conservation":MAILTO:media@nsccva.org
END:VEVENT
BEGIN:VEVENT
DTSTART;TZID=America/New_York:20230311T090000
DTEND;TZID=America/New_York:20230311T123000
DTSTAMP:20260420T151110
CREATED:20230226T205625Z
LAST-MODIFIED:20230306T144944Z
UID:1256-1678525200-1678537800@nsccva.org
SUMMARY:Volunteer Workday
DESCRIPTION:Do you know of a better place to get exercise and enjoy the outdoors than being at 2 of Norfolk’s historic cemeteries? \nNSCC’s next workday will be on Saturday\, March 11 starting at 9 a.m. We will be picking up outdated decorations and trash at Elmwood and Cedar Grove Cemeteries. \nMeet inside the entrance of Elmwood Cemetery. Snacks and water will be provided.
URL:https://nsccva.org/event/volunteer-workday-3/
LOCATION:Elmwood Cemetery\, 238 E Princess Anne Rd.\, Norfolk\, Virginia\, 23510
CATEGORIES:Volunteer Opportunity
ATTACH;FMTTYPE=image/jpeg:https://nsccva.org/wp-content/uploads/2023/02/vol-day.jpeg
ORGANIZER;CN="Norfolk Society of Cemetery Conservation":MAILTO:media@nsccva.org
END:VEVENT
BEGIN:VEVENT
DTSTART;TZID=America/New_York:20230304T090000
DTEND;TZID=America/New_York:20230304T123000
DTSTAMP:20260420T151110
CREATED:20230226T205130Z
LAST-MODIFIED:20230226T211825Z
UID:1251-1677920400-1677933000@nsccva.org
SUMMARY:Volunteer Workday
DESCRIPTION:Stone cleaning the children’s plot. Follow the signs and be sure to wear old clothing. Snacks & water provided.
URL:https://nsccva.org/event/volunteer-workday/
LOCATION:Forest Lawn Cemetery\, 8100 Granby St\, Norfolk\, Virginia\, 23505
CATEGORIES:Volunteer Opportunity
ATTACH;FMTTYPE=image/jpeg:https://nsccva.org/wp-content/uploads/2023/01/59294996_10157278497868221_6307030908624961536_n-1-1.jpg
ORGANIZER;CN="Norfolk Society of Cemetery Conservation":MAILTO:media@nsccva.org
END:VEVENT
END:VCALENDAR