BEGIN:VCALENDAR
VERSION:2.0
PRODID:-//Norfolk Society for Cemetery Conservation - ECPv6.15.20//NONSGML v1.0//EN
CALSCALE:GREGORIAN
METHOD:PUBLISH
X-WR-CALNAME:Norfolk Society for Cemetery Conservation
X-ORIGINAL-URL:https://nsccva.org
X-WR-CALDESC:Events for Norfolk Society for Cemetery Conservation
REFRESH-INTERVAL;VALUE=DURATION:PT1H
X-Robots-Tag:noindex
X-PUBLISHED-TTL:PT1H
BEGIN:VTIMEZONE
TZID:America/New_York
BEGIN:DAYLIGHT
TZOFFSETFROM:-0500
TZOFFSETTO:-0400
TZNAME:EDT
DTSTART:20220313T070000
END:DAYLIGHT
BEGIN:STANDARD
TZOFFSETFROM:-0400
TZOFFSETTO:-0500
TZNAME:EST
DTSTART:20221106T060000
END:STANDARD
BEGIN:DAYLIGHT
TZOFFSETFROM:-0500
TZOFFSETTO:-0400
TZNAME:EDT
DTSTART:20230312T070000
END:DAYLIGHT
BEGIN:STANDARD
TZOFFSETFROM:-0400
TZOFFSETTO:-0500
TZNAME:EST
DTSTART:20231105T060000
END:STANDARD
BEGIN:DAYLIGHT
TZOFFSETFROM:-0500
TZOFFSETTO:-0400
TZNAME:EDT
DTSTART:20240310T070000
END:DAYLIGHT
BEGIN:STANDARD
TZOFFSETFROM:-0400
TZOFFSETTO:-0500
TZNAME:EST
DTSTART:20241103T060000
END:STANDARD
END:VTIMEZONE
BEGIN:VEVENT
DTSTART;TZID=America/New_York:20230902T100000
DTEND;TZID=America/New_York:20230902T113000
DTSTAMP:20260420T150952
CREATED:20230226T211123Z
LAST-MODIFIED:20230313T181826Z
UID:1266-1693648800-1693654200@nsccva.org
SUMMARY:Forest Lawn Cemetery Tree Tour
DESCRIPTION:When Forest Lawn Cemetery was designed at the beginning of the Twentieth Century\, it was created as an open space to be enjoyed. Trees were planted throughout the cemetery to provide shade and beauty. Join NSCC Board Member Tracy Halman to explore the cemetery and learn about the many varieties of trees that line the cemetery’s roads. \nImportant information \n\nTours are a $5 suggested donation per person. You may walk-up and pay in person or pre-register via PayPal.\nTours and weather updates will be announced on our Facebook and Instagram pages\, as well as on our calendar of events on this web site.\nRestrooms will not be open for events until further notice.
URL:https://nsccva.org/event/forest-lawn-cemetery-tree-tour/
LOCATION:Forest Lawn Cemetery\, 8100 Granby St\, Norfolk\, Virginia\, 23505
CATEGORIES:Cemetery Tour
ATTACH;FMTTYPE=image/jpeg:https://nsccva.org/wp-content/uploads/2023/02/tree-tour.jpeg
ORGANIZER;CN="Norfolk Society of Cemetery Conservation":MAILTO:media@nsccva.org
END:VEVENT
BEGIN:VEVENT
DTSTART;TZID=America/New_York:20230630T183000
DTEND;TZID=America/New_York:20230630T193000
DTSTAMP:20260420T150952
CREATED:20230304T183406Z
LAST-MODIFIED:20230313T181356Z
UID:1314-1688149800-1688153400@nsccva.org
SUMMARY:Death Followed Quickly - Without a Chance to Say Goodbye
DESCRIPTION:Join tour guide Shannon Stafford as he tells stories of sudden and unexpected death. \nSuggested donation of $5. PayPal and walkup donations accepted. \nInfo & Weather updates: http://www.nsccva.org/ or Facebook https://www.facebook.com/NorfolkSocietyforCemeteryConservation
URL:https://nsccva.org/event/death-followed-quickly-without-a-chance-to-say-goodbye-2/
LOCATION:Elmwood Cemetery\, 238 E Princess Anne Rd.\, Norfolk\, Virginia\, 23510
CATEGORIES:Cemetery Tour
ATTACH;FMTTYPE=image/png:https://nsccva.org/wp-content/uploads/2023/01/elmwood.png
ORGANIZER;CN="Norfolk Society of Cemetery Conservation":MAILTO:media@nsccva.org
END:VEVENT
BEGIN:VEVENT
DTSTART;TZID=America/New_York:20230616T183000
DTEND;TZID=America/New_York:20230616T193000
DTSTAMP:20260420T150952
CREATED:20230304T183135Z
LAST-MODIFIED:20230313T181154Z
UID:1312-1686940200-1686943800@nsccva.org
SUMMARY:Language of the Dead: Messages from Beyond
DESCRIPTION:Join tour guide Shannon Stafford as he explains the meaning of different Victorian headstone symbols\, the lost language of the Victorians. \nSuggested donation of $5. PayPal and walkup donations accepted. \nInfo & Weather updates: http://www.nsccva.org/ or Facebook https://www.facebook.com/NorfolkSocietyforCemeteryConservation 
URL:https://nsccva.org/event/the-beauty-in-death-the-headstone-symbols-of-elmwood-2/
LOCATION:Elmwood Cemetery\, 238 E Princess Anne Rd.\, Norfolk\, Virginia\, 23510
CATEGORIES:Cemetery Tour
ATTACH;FMTTYPE=image/jpeg:https://nsccva.org/wp-content/uploads/2023/03/shannon-2.jpeg
ORGANIZER;CN="Norfolk Society of Cemetery Conservation":MAILTO:media@nsccva.org
END:VEVENT
BEGIN:VEVENT
DTSTART;TZID=America/New_York:20230604T180000
DTEND;TZID=America/New_York:20230604T190000
DTSTAMP:20260420T150952
CREATED:20230304T182907Z
LAST-MODIFIED:20230313T180526Z
UID:1310-1685901600-1685905200@nsccva.org
SUMMARY:Mishaps and Misfortunes Tour
DESCRIPTION:Jaw dropping and head scratching tales from those who are buried at Cedar Grove. \nSuggested donation of $5. PayPal and walkup donations accepted. \nInfo & Weather updates: http://www.nsccva.org/ or Facebook https://www.facebook.com/NorfolkSocietyforCemeteryConservation 
URL:https://nsccva.org/event/mishaps-and-misfortunes-tour/
LOCATION:Cedar Grove Cemetery\, 238 E Princess Anne Rd\, Norfolk\, Virginia\, 23510
CATEGORIES:Cemetery Tour
ATTACH;FMTTYPE=image/png:https://nsccva.org/wp-content/uploads/2023/03/mishaps.png
ORGANIZER;CN="Norfolk Society of Cemetery Conservation":MAILTO:media@nsccva.org
END:VEVENT
BEGIN:VEVENT
DTSTART;TZID=America/New_York:20230602T183000
DTEND;TZID=America/New_York:20230602T193000
DTSTAMP:20260420T150952
CREATED:20230304T182727Z
LAST-MODIFIED:20230313T180257Z
UID:1306-1685730600-1685734200@nsccva.org
SUMMARY:Mysteries Brought to the Surface - Shrouded History of Norfolk Exhumed
DESCRIPTION:Join tour guide Shannon Stafford as he tells stories of sudden and unexpected death. \nSuggested donation of $5. PayPal and walkup donations accepted. \nInfo & Weather updates: http://www.nsccva.org/ or Facebook https://www.facebook.com/NorfolkSocietyforCemeteryConservation 
URL:https://nsccva.org/event/mysteries-brought-to-the-surface-shrouded-history-of-norfolk-exhumed/
LOCATION:Elmwood Cemetery\, 238 E Princess Anne Rd.\, Norfolk\, Virginia\, 23510
CATEGORIES:Cemetery Tour
ATTACH;FMTTYPE=image/jpeg:https://nsccva.org/wp-content/uploads/2023/03/shannon-nscc.jpeg
ORGANIZER;CN="Norfolk Society of Cemetery Conservation":MAILTO:media@nsccva.org
END:VEVENT
BEGIN:VEVENT
DTSTART;TZID=America/New_York:20230528T180000
DTEND;TZID=America/New_York:20230528T190000
DTSTAMP:20260420T150952
CREATED:20230304T182515Z
LAST-MODIFIED:20230528T211834Z
UID:1303-1685296800-1685300400@nsccva.org
SUMMARY:CANCELED DUE TO WET CONDITIONS - A Victorian Cemetery Picnic (Yellow Fever Tour)
DESCRIPTION:BYOB – Bring your own blanket or fold-out chairs.  Join Samantha McDonald at Cedar Grove’s Potter’s Field as she takes you on a journey through the Yellow Fever Epidemic of 1855.  Hear tales about those who lived and died. \nSuggested donation of $5. PayPal and walkup donations accepted. \nInfo & Weather updates: http://www.nsccva.org/ or Facebook https://www.facebook.com/NorfolkSocietyforCemeteryConservation 
URL:https://nsccva.org/event/a-victorian-cemetery-picnic-yellow-fever-tour-2/
LOCATION:Cedar Grove Cemetery\, 238 E Princess Anne Rd\, Norfolk\, Virginia\, 23510
CATEGORIES:Cemetery Tour
ATTACH;FMTTYPE=image/jpeg:https://nsccva.org/wp-content/uploads/2023/03/cemetery-picnic-cedar-grove.jpeg
ORGANIZER;CN="Norfolk Society of Cemetery Conservation":MAILTO:media@nsccva.org
END:VEVENT
BEGIN:VEVENT
DTSTART;TZID=America/New_York:20230527T100000
DTEND;TZID=America/New_York:20230527T120000
DTSTAMP:20260420T150952
CREATED:20230217T222744Z
LAST-MODIFIED:20230313T180003Z
UID:1222-1685181600-1685188800@nsccva.org
SUMMARY:Forest Lawn Cemetery Trees Tour
DESCRIPTION:When Forest Lawn Cemetery was designed at the beginning of the Twentieth Century\, it was created as an open space to be enjoyed. Trees were planted throughout the cemetery to provide shade and beauty. Join NSCC Board Member Tracy Halman to explore the cemetery and learn about the many varieties of trees that line the cemetery’s roads. \nImportant information \n\nTours are a $5 suggested donation per person. You may walk-up and pay in person or pre-register via PayPal.\nTours and weather updates will be announced on our Facebook and Instagram pages\, as well as on our calendar of events on this web site.\nRestrooms will not be open for events until further notice.
URL:https://nsccva.org/event/forest-lawn-cemetery-trees-tour-2/
LOCATION:Forest Lawn Cemetery\, 8100 Granby St\, Norfolk\, Virginia\, 23505
CATEGORIES:Cemetery Tour
ATTACH;FMTTYPE=image/jpeg:https://nsccva.org/wp-content/uploads/2023/02/tree-tour.jpeg
ORGANIZER;CN="Norfolk Society of Cemetery Conservation":MAILTO:media@nsccva.org
END:VEVENT
BEGIN:VEVENT
DTSTART;TZID=America/New_York:20230519T183000
DTEND;TZID=America/New_York:20230519T193000
DTSTAMP:20260420T150952
CREATED:20230304T182342Z
LAST-MODIFIED:20230313T175400Z
UID:1300-1684521000-1684524600@nsccva.org
SUMMARY:Facing the Gallows - The Last Walk 
DESCRIPTION:Join tour guide Shannon Stafford as he tells stories of those who faced Virginia’s ultimate punishment\, death. \nSuggested donation of $5. PayPal and walkup donations accepted. \nInfo & Weather updates: http://www.nsccva.org/ or Facebook https://www.facebook.com/NorfolkSocietyforCemeteryConservation 
URL:https://nsccva.org/event/facing-the-gallows-the-last-walk-2/
LOCATION:Elmwood Cemetery\, 238 E Princess Anne Rd.\, Norfolk\, Virginia\, 23510
CATEGORIES:Cemetery Tour
ATTACH;FMTTYPE=image/jpeg:https://nsccva.org/wp-content/uploads/2023/01/elmwood_best-1.jpg
ORGANIZER;CN="Norfolk Society of Cemetery Conservation":MAILTO:media@nsccva.org
END:VEVENT
BEGIN:VEVENT
DTSTART;TZID=America/New_York:20230512T180000
DTEND;TZID=America/New_York:20230512T190000
DTSTAMP:20260420T150952
CREATED:20230304T182158Z
LAST-MODIFIED:20230313T175010Z
UID:1297-1683914400-1683918000@nsccva.org
SUMMARY:Language of the Dead: Messages from Beyond
DESCRIPTION:Join tour guide Shannon Stafford as he explains the meaning of different Victorian headstone symbols\, the lost language of the Victorians. \nSuggested donation of $5. PayPal and walkup donations accepted. \nInfo & Weather updates: http://www.nsccva.org/ or Facebook https://www.facebook.com/NorfolkSocietyforCemeteryConservation 
URL:https://nsccva.org/event/the-beauty-in-death-the-headstone-symbols-of-elmwood/
LOCATION:Elmwood Cemetery\, 238 E Princess Anne Rd.\, Norfolk\, Virginia\, 23510
CATEGORIES:Cemetery Tour
ATTACH;FMTTYPE=image/jpeg:https://nsccva.org/wp-content/uploads/2023/03/shannon-3.jpeg
ORGANIZER;CN="Norfolk Society of Cemetery Conservation":MAILTO:media@nsccva.org
END:VEVENT
BEGIN:VEVENT
DTSTART;TZID=America/New_York:20230430T180000
DTEND;TZID=America/New_York:20230430T190000
DTSTAMP:20260420T150952
CREATED:20230304T181702Z
LAST-MODIFIED:20230430T202423Z
UID:1292-1682877600-1682881200@nsccva.org
SUMMARY:CANCELLED DUE TO INCLEMENT WEATHER - Mishaps and Misfortune Tour
DESCRIPTION:Jaw dropping and head scratching tales from those who are buried at Cedar Grove. \nSuggested donation of $5. PayPal and walkup donations accepted. \nInfo & Weather updates: http://www.nsccva.org/ or Facebook https://www.facebook.com/NorfolkSocietyforCemeteryConservation 
URL:https://nsccva.org/event/mishaps-and-misfortune-tour/
LOCATION:Cedar Grove Cemetery\, 238 E Princess Anne Rd\, Norfolk\, Virginia\, 23510
CATEGORIES:Cemetery Tour
ATTACH;FMTTYPE=image/png:https://nsccva.org/wp-content/uploads/2023/03/mishaps.png
ORGANIZER;CN="Norfolk Society of Cemetery Conservation":MAILTO:media@nsccva.org
END:VEVENT
BEGIN:VEVENT
DTSTART;TZID=America/New_York:20230428T180000
DTEND;TZID=America/New_York:20230428T190000
DTSTAMP:20260420T150952
CREATED:20230304T181427Z
LAST-MODIFIED:20230428T162348Z
UID:1290-1682704800-1682708400@nsccva.org
SUMMARY:CANCELLED DUE TO INCLEMENT WEATHER - Death Followed Quickly - Without a Chance to Say Goodbye 
DESCRIPTION:CANCELLED DUE TO INCLEMENT WEATHER.\nJoin tour guide Shannon Stafford as he tells stories of sudden and unexpected death. \nSuggested donation of $5. PayPal and walkup donations accepted. \nInfo & Weather updates: http://www.nsccva.org/ or Facebook https://www.facebook.com/NorfolkSocietyforCemeteryConservation 
URL:https://nsccva.org/event/death-followed-quickly-without-a-chance-to-say-goodbye/
LOCATION:Elmwood Cemetery\, 238 E Princess Anne Rd.\, Norfolk\, Virginia\, 23510
CATEGORIES:Cemetery Tour
ATTACH;FMTTYPE=image/jpeg:https://nsccva.org/wp-content/uploads/2023/03/shannon-nscc.jpeg
ORGANIZER;CN="Norfolk Society of Cemetery Conservation":MAILTO:media@nsccva.org
END:VEVENT
BEGIN:VEVENT
DTSTART;TZID=America/New_York:20230423T180000
DTEND;TZID=America/New_York:20230423T190000
DTSTAMP:20260420T150952
CREATED:20230304T181147Z
LAST-MODIFIED:20230313T174014Z
UID:1287-1682272800-1682276400@nsccva.org
SUMMARY:A Victorian Cemetery Picnic (Yellow Fever Tour)
DESCRIPTION:BYOB – Bring your own blanket or fold-out chairs.  Join Samantha McDonald at Cedar Grove’s Potter’s Field as she takes you on a journey through the Yellow Fever Epidemic of 1855.  Hear tales about those who lived and died. \nSuggested donation of $5. PayPal and walkup donations accepted. \nInfo & Weather updates: http://www.nsccva.org/ or Facebook https://www.facebook.com/NorfolkSocietyforCemeteryConservation 
URL:https://nsccva.org/event/a-victorian-cemetery-picnic-yellow-fever-tour/
LOCATION:Cedar Grove Cemetery\, 238 E Princess Anne Rd\, Norfolk\, Virginia\, 23510
CATEGORIES:Cemetery Tour
ATTACH;FMTTYPE=image/jpeg:https://nsccva.org/wp-content/uploads/2023/03/cemetery-picnic-cedar-grove.jpeg
ORGANIZER;CN="Norfolk Society of Cemetery Conservation":MAILTO:media@nsccva.org
END:VEVENT
BEGIN:VEVENT
DTSTART;TZID=America/New_York:20230415T100000
DTEND;TZID=America/New_York:20230415T120000
DTSTAMP:20260420T150952
CREATED:20230217T222531Z
LAST-MODIFIED:20230313T173818Z
UID:1220-1681552800-1681560000@nsccva.org
SUMMARY:Forest Lawn Cemetery Trees Tour
DESCRIPTION:When Forest Lawn Cemetery was designed at the beginning of the Twentieth Century\, it was created as an open space to be enjoyed. Trees were planted throughout the cemetery to provide shade and beauty. Join NSCC Board Member Tracy Halman to explore the cemetery and learn about the many varieties of trees that line the cemetery’s roads. \nImportant information \n\nTours are a $5 suggested donation per person. You may walk-up and pay in person or pre-register via PayPal.\nTours and weather updates will be announced on our Facebook and Instagram pages\, as well as on our calendar of events on this web site.\nRestrooms will not be open for events until further notice.
URL:https://nsccva.org/event/forest-lawn-cemetery-trees-tour/
LOCATION:Forest Lawn Cemetery\, 8100 Granby St\, Norfolk\, Virginia\, 23505
CATEGORIES:Cemetery Tour
ATTACH;FMTTYPE=image/jpeg:https://nsccva.org/wp-content/uploads/2023/02/tree-tour.jpeg
ORGANIZER;CN="Norfolk Society of Cemetery Conservation":MAILTO:media@nsccva.org
END:VEVENT
BEGIN:VEVENT
DTSTART;TZID=America/New_York:20230414T180000
DTEND;TZID=America/New_York:20230414T190000
DTSTAMP:20260420T150952
CREATED:20230304T180724Z
LAST-MODIFIED:20230313T173410Z
UID:1284-1681495200-1681498800@nsccva.org
SUMMARY:Facing the Gallows - The Last Walk 
DESCRIPTION:Join tour guide Shannon Stafford as he tells stories of those who faced Virginia’s ultimate punishment\, death. \nSuggested donation of $5. PayPal and walkup donations accepted. \nInfo & Weather updates: http://www.nsccva.org/ or Facebook https://www.facebook.com/NorfolkSocietyforCemeteryConservation 
URL:https://nsccva.org/event/facing-the-gallows-the-last-walk/
LOCATION:Elmwood Cemetery\, 238 E Princess Anne Rd.\, Norfolk\, Virginia\, 23510
CATEGORIES:Cemetery Tour
ATTACH;FMTTYPE=image/jpeg:https://nsccva.org/wp-content/uploads/2023/03/shannon-nscc.jpeg
ORGANIZER;CN="Norfolk Society of Cemetery Conservation":MAILTO:media@nsccva.org
END:VEVENT
BEGIN:VEVENT
DTSTART;TZID=America/New_York:20230326T160000
DTEND;TZID=America/New_York:20230326T170000
DTSTAMP:20260420T150952
CREATED:20230304T180427Z
LAST-MODIFIED:20230313T173216Z
UID:1281-1679846400-1679850000@nsccva.org
SUMMARY:Women's History Tour in Elmwood
DESCRIPTION:Join tour guide Samantha McDonald as she tells the stories of the fascinating women who shaped Norfolk’s history. \nSuggested donation of $5. PayPal and walkup donations accepted. \nInfo & Weather updates: http://www.nsccva.org/ or Facebook https://www.facebook.com/NorfolkSocietyforCemeteryConservation 
URL:https://nsccva.org/event/womens-history-tour-in-elmwood/
LOCATION:Elmwood Cemetery\, 238 E Princess Anne Rd.\, Norfolk\, Virginia\, 23510
CATEGORIES:Cemetery Tour
ATTACH;FMTTYPE=image/png:https://nsccva.org/wp-content/uploads/2023/03/Womens-history.png
ORGANIZER;CN="Norfolk Society of Cemetery Conservation":MAILTO:media@nsccva.org
END:VEVENT
END:VCALENDAR