BEGIN:VCALENDAR
VERSION:2.0
PRODID:-//Norfolk Society for Cemetery Conservation - ECPv6.15.20//NONSGML v1.0//EN
CALSCALE:GREGORIAN
METHOD:PUBLISH
X-WR-CALNAME:Norfolk Society for Cemetery Conservation
X-ORIGINAL-URL:https://nsccva.org
X-WR-CALDESC:Events for Norfolk Society for Cemetery Conservation
REFRESH-INTERVAL;VALUE=DURATION:PT1H
X-Robots-Tag:noindex
X-PUBLISHED-TTL:PT1H
BEGIN:VTIMEZONE
TZID:America/New_York
BEGIN:DAYLIGHT
TZOFFSETFROM:-0500
TZOFFSETTO:-0400
TZNAME:EDT
DTSTART:20230312T070000
END:DAYLIGHT
BEGIN:STANDARD
TZOFFSETFROM:-0400
TZOFFSETTO:-0500
TZNAME:EST
DTSTART:20231105T060000
END:STANDARD
BEGIN:DAYLIGHT
TZOFFSETFROM:-0500
TZOFFSETTO:-0400
TZNAME:EDT
DTSTART:20240310T070000
END:DAYLIGHT
BEGIN:STANDARD
TZOFFSETFROM:-0400
TZOFFSETTO:-0500
TZNAME:EST
DTSTART:20241103T060000
END:STANDARD
BEGIN:DAYLIGHT
TZOFFSETFROM:-0500
TZOFFSETTO:-0400
TZNAME:EDT
DTSTART:20250309T070000
END:DAYLIGHT
BEGIN:STANDARD
TZOFFSETFROM:-0400
TZOFFSETTO:-0500
TZNAME:EST
DTSTART:20251102T060000
END:STANDARD
END:VTIMEZONE
BEGIN:VEVENT
DTSTART;TZID=America/New_York:20241012T143000
DTEND;TZID=America/New_York:20241012T170000
DTSTAMP:20260420T144350
CREATED:20240330T184833Z
LAST-MODIFIED:20240811T191209Z
UID:1606-1728743400-1728752400@nsccva.org
SUMMARY:"From Here to Eternity - Little Willie Awaits" 5K Run
DESCRIPTION:Get your costumes ready and get in shape for “From Here to Eternity- Little Willie Awaits” 5k fun run/walk through West Point and Elmwood Cemeteries on October 12\, 2024. \nRace check-in starts in West Point Cemetery at 2:30 p.m. with the race starting at 4 p.m. \nAwards: \n\n$250 cash for finishing under 18 minutes (one winner).\nTop 3 Male & Female Overall.\nTop 3 Male & Female in each age group: 19 & under\, 20-29\, 30-39\, 40-49\, 50-59\, 60-69\, 70+.\n\nRegister early at the link below. Fees increase starting September 30! \nFrom Here to Eternity Twilight 5K on Athlinks
URL:https://nsccva.org/event/from-here-to-eternity-5k-run/
LOCATION:Elmwood Cemetery\, 238 E Princess Anne Rd.\, Norfolk\, Virginia\, 23510
CATEGORIES:5k Race,Volunteer Opportunity
ATTACH;FMTTYPE=image/png:https://nsccva.org/wp-content/uploads/2024/08/NSCC-2024-Race-Design-Willie-Awaits-new-photo-1.png
ORGANIZER;CN="Norfolk Society of Cemetery Conservation":MAILTO:media@nsccva.org
END:VEVENT
END:VCALENDAR